BEGIN:VCALENDAR
VERSION:2.0
PRODID:-//Marcelle - ECPv6.15.18//NONSGML v1.0//EN
CALSCALE:GREGORIAN
METHOD:PUBLISH
X-WR-CALNAME:Marcelle
X-ORIGINAL-URL:https://www.marcelle.media
X-WR-CALDESC:Évènements pour Marcelle
REFRESH-INTERVAL;VALUE=DURATION:PT1H
X-Robots-Tag:noindex
X-PUBLISHED-TTL:PT1H
BEGIN:VTIMEZONE
TZID:Europe/Paris
BEGIN:DAYLIGHT
TZOFFSETFROM:+0100
TZOFFSETTO:+0200
TZNAME:CEST
DTSTART:20250330T010000
END:DAYLIGHT
BEGIN:STANDARD
TZOFFSETFROM:+0200
TZOFFSETTO:+0100
TZNAME:CET
DTSTART:20251026T010000
END:STANDARD
BEGIN:DAYLIGHT
TZOFFSETFROM:+0100
TZOFFSETTO:+0200
TZNAME:CEST
DTSTART:20260329T010000
END:DAYLIGHT
BEGIN:STANDARD
TZOFFSETFROM:+0200
TZOFFSETTO:+0100
TZNAME:CET
DTSTART:20261025T010000
END:STANDARD
BEGIN:DAYLIGHT
TZOFFSETFROM:+0100
TZOFFSETTO:+0200
TZNAME:CEST
DTSTART:20270328T010000
END:DAYLIGHT
BEGIN:STANDARD
TZOFFSETFROM:+0200
TZOFFSETTO:+0100
TZNAME:CET
DTSTART:20271031T010000
END:STANDARD
END:VTIMEZONE
BEGIN:VEVENT
DTSTART;TZID=Europe/Paris:20260509T140000
DTEND;TZID=Europe/Paris:20260509T170000
DTSTAMP:20260420T220044
CREATED:20260420T094030Z
LAST-MODIFIED:20260420T094030Z
UID:62238-1778335200-1778346000@www.marcelle.media
SUMMARY:Ciné-débat « Une année difficile » d'Eric Toledano et Olivier Nakache
DESCRIPTION:Ciné Sciences sociales de l’APSES\, « Une année difficile » d’Eric Toledano et Olivier Nakache\, débat animé par Isabelle Le Couëdic\, professeure de SES et Carole Breteau\, militante écologiste. \nThèmes : surconsommation\, surendettement\, engagement écologique
URL:https://www.marcelle.media/evenement/cine-debat-une-annee-difficile-deric-toledano-et-olivier-nakache/
LOCATION:Bibliothèque de l’Alcazar\, Marseille
END:VEVENT
END:VCALENDAR